BEGIN:VCALENDAR
VERSION:2.0
PRODID:-//All South Bay Central Office of Alcoholics Anonymous (310) 618-1180 - ECPv6.15.20//NONSGML v1.0//EN
CALSCALE:GREGORIAN
METHOD:PUBLISH
X-ORIGINAL-URL:https://asbco.org
X-WR-CALDESC:Events for All South Bay Central Office of Alcoholics Anonymous (310) 618-1180
REFRESH-INTERVAL;VALUE=DURATION:PT1H
X-Robots-Tag:noindex
X-PUBLISHED-TTL:PT1H
BEGIN:VTIMEZONE
TZID:America/Los_Angeles
BEGIN:DAYLIGHT
TZOFFSETFROM:-0800
TZOFFSETTO:-0700
TZNAME:PDT
DTSTART:20230312T100000
END:DAYLIGHT
BEGIN:STANDARD
TZOFFSETFROM:-0700
TZOFFSETTO:-0800
TZNAME:PST
DTSTART:20231105T090000
END:STANDARD
BEGIN:DAYLIGHT
TZOFFSETFROM:-0800
TZOFFSETTO:-0700
TZNAME:PDT
DTSTART:20240310T100000
END:DAYLIGHT
BEGIN:STANDARD
TZOFFSETFROM:-0700
TZOFFSETTO:-0800
TZNAME:PST
DTSTART:20241103T090000
END:STANDARD
BEGIN:DAYLIGHT
TZOFFSETFROM:-0800
TZOFFSETTO:-0700
TZNAME:PDT
DTSTART:20250309T100000
END:DAYLIGHT
BEGIN:STANDARD
TZOFFSETFROM:-0700
TZOFFSETTO:-0800
TZNAME:PST
DTSTART:20251102T090000
END:STANDARD
BEGIN:DAYLIGHT
TZOFFSETFROM:-0800
TZOFFSETTO:-0700
TZNAME:PDT
DTSTART:20260308T100000
END:DAYLIGHT
BEGIN:STANDARD
TZOFFSETFROM:-0700
TZOFFSETTO:-0800
TZNAME:PST
DTSTART:20261101T090000
END:STANDARD
END:VTIMEZONE
BEGIN:VEVENT
DTSTART;TZID=America/Los_Angeles:20250405T180000
DTEND;TZID=America/Los_Angeles:20250405T210000
DTSTAMP:20260424T172941
CREATED:20250329T041043Z
LAST-MODIFIED:20250403T193703Z
UID:10000264-1743876000-1743886800@asbco.org
SUMMARY:Comedy Night
DESCRIPTION:Download Flyer
URL:https://asbco.org/event/comedy-night/
LOCATION:St. Andrew’s Church\, 301 Avenue D\, Redondo Beach\, CA\, 90277\, United States
ORGANIZER;CN="All South Bay Central Office (ASBCO)":MAILTO:info@southbayaa.org
END:VEVENT
BEGIN:VEVENT
DTSTART;TZID=America/Los_Angeles:20241009T095050
DTEND;TZID=America/Los_Angeles:20241009T095050
DTSTAMP:20260424T172941
CREATED:20240912T003143Z
LAST-MODIFIED:20241009T165050Z
UID:10000194-1728467450-1728467450@asbco.org
SUMMARY:All South Bay Central Office Gratitude Breakfast & Special Guest Speaker
DESCRIPTION:
URL:https://asbco.org/event/all-south-bay-central-office-gratitude-breakfast-special-guest-speaker/
LOCATION:St. Andrew’s Church\, 301 Avenue D\, Redondo Beach\, CA\, 90277\, United States
END:VEVENT
END:VCALENDAR